BEGIN:VCALENDAR
VERSION:2.0
PRODID:-//Aurora School Of Music - ECPv6.15.20//NONSGML v1.0//EN
CALSCALE:GREGORIAN
METHOD:PUBLISH
X-WR-CALNAME:Aurora School Of Music
X-ORIGINAL-URL:https://auroraschoolofmusic.com
X-WR-CALDESC:Events for Aurora School Of Music
REFRESH-INTERVAL;VALUE=DURATION:PT1H
X-Robots-Tag:noindex
X-PUBLISHED-TTL:PT1H
BEGIN:VTIMEZONE
TZID:UTC
BEGIN:STANDARD
TZOFFSETFROM:+0000
TZOFFSETTO:+0000
TZNAME:UTC
DTSTART:20150101T000000
END:STANDARD
END:VTIMEZONE
BEGIN:VEVENT
DTSTART;TZID=UTC:20160627T090000
DTEND;TZID=UTC:20160701T210000
DTSTAMP:20260424T150911
CREATED:20160624T132853Z
LAST-MODIFIED:20160624T132853Z
UID:600-1467018000-1467406800@auroraschoolofmusic.com
SUMMARY:Jazz Camp
DESCRIPTION:Time: 9:00 AM to 3:00 PM \nAges: 12-18 \nPerformance: Friday\, July 1 at 7:00 PM \nParticipation Fee: $500.00 \n(Includes Snack\, Lunch\, and Performance Recording) \nRegistration deadline: May 9\, 2016 \nAudition schedule: \nMonday\, June 6\nWednesday\, June 8\n3:00-6:00 p.m. \nAfter registration\, please contact the ASM office to request an audition time. \nRegister today to be a part of the ASM summer experience!   
URL:https://auroraschoolofmusic.com/event/jazz-camp-day-5-june-27-july-1-2016/
END:VEVENT
END:VCALENDAR