BEGIN:VCALENDAR
VERSION:2.0
PRODID:-//Aurora School Of Music - ECPv6.15.20//NONSGML v1.0//EN
CALSCALE:GREGORIAN
METHOD:PUBLISH
X-ORIGINAL-URL:https://auroraschoolofmusic.com
X-WR-CALDESC:Events for Aurora School Of Music
REFRESH-INTERVAL;VALUE=DURATION:PT1H
X-Robots-Tag:noindex
X-PUBLISHED-TTL:PT1H
BEGIN:VTIMEZONE
TZID:UTC
BEGIN:STANDARD
TZOFFSETFROM:+0000
TZOFFSETTO:+0000
TZNAME:UTC
DTSTART:20150101T000000
END:STANDARD
END:VTIMEZONE
BEGIN:VEVENT
DTSTART;VALUE=DATE:20160704
DTEND;VALUE=DATE:20160705
DTSTAMP:20260424T150958
CREATED:20160624T155917Z
LAST-MODIFIED:20160624T155917Z
UID:871-1467590400-1467676799@auroraschoolofmusic.com
SUMMARY:School Closed (Independence Day)
DESCRIPTION:School Closed on Independence Day\nJuly 4\, 2016   
URL:https://auroraschoolofmusic.com/event/school-closed-independence-day/
END:VEVENT
END:VCALENDAR