BEGIN:VCALENDAR
VERSION:2.0
PRODID:-//Aurora School Of Music - ECPv6.15.20//NONSGML v1.0//EN
CALSCALE:GREGORIAN
METHOD:PUBLISH
X-ORIGINAL-URL:https://auroraschoolofmusic.com
X-WR-CALDESC:Events for Aurora School Of Music
REFRESH-INTERVAL;VALUE=DURATION:PT1H
X-Robots-Tag:noindex
X-PUBLISHED-TTL:PT1H
BEGIN:VTIMEZONE
TZID:UTC
BEGIN:STANDARD
TZOFFSETFROM:+0000
TZOFFSETTO:+0000
TZNAME:UTC
DTSTART:20150101T000000
END:STANDARD
END:VTIMEZONE
BEGIN:VEVENT
DTSTART;TZID=UTC:20160718T080000
DTEND;TZID=UTC:20160721T170000
DTSTAMP:20260424T151016
CREATED:20160624T154912Z
LAST-MODIFIED:20160624T154912Z
UID:868-1468828800-1469120400@auroraschoolofmusic.com
SUMMARY:Rock Camp Day
DESCRIPTION:Time: 9:00 AM to 3:00 PM \nAges: 5-18 \nPerformance: Friday\, July 22 at 7:00 PM \nParticipation Fee: $500.00 \n(Includes Snack\, Lunch\, and Performance Recording) \nRegistration deadline: June 1\, 2016 \nAudition schedule:\nSunday\, June 12\n1:00-6:30 p.m. \nAfter registration\, please contact the ASM office to request an audition time. \nRegister today to be a part of the ASM summer experience!   
URL:https://auroraschoolofmusic.com/event/rock-camp-day/
END:VEVENT
END:VCALENDAR