BEGIN:VCALENDAR
VERSION:2.0
PRODID:-//Aurora School Of Music - ECPv6.15.20//NONSGML v1.0//EN
CALSCALE:GREGORIAN
METHOD:PUBLISH
X-WR-CALNAME:Aurora School Of Music
X-ORIGINAL-URL:https://auroraschoolofmusic.com
X-WR-CALDESC:Events for Aurora School Of Music
REFRESH-INTERVAL;VALUE=DURATION:PT1H
X-Robots-Tag:noindex
X-PUBLISHED-TTL:PT1H
BEGIN:VTIMEZONE
TZID:UTC
BEGIN:STANDARD
TZOFFSETFROM:+0000
TZOFFSETTO:+0000
TZNAME:UTC
DTSTART:20150101T000000
END:STANDARD
END:VTIMEZONE
BEGIN:VEVENT
DTSTART;TZID=UTC:20161216T193000
DTEND;TZID=UTC:20161216T193000
DTSTAMP:20260424T091440
CREATED:20161216T081024Z
LAST-MODIFIED:20161216T081024Z
UID:6272-1481916600-1481916600@auroraschoolofmusic.com
SUMMARY:An Evening with James
DESCRIPTION:An Evening with James will take place on Friday\, Jan. 27 at 7:30 PM. It will feature James Spisak\, an adult voice student at ASM\, and other ASM students and faculty.   
URL:https://auroraschoolofmusic.com/event/an-evening-with-james/
END:VEVENT
END:VCALENDAR