BEGIN:VCALENDAR
VERSION:2.0
PRODID:-//Aurora School Of Music - ECPv6.15.20//NONSGML v1.0//EN
CALSCALE:GREGORIAN
METHOD:PUBLISH
X-ORIGINAL-URL:https://auroraschoolofmusic.com
X-WR-CALDESC:Events for Aurora School Of Music
REFRESH-INTERVAL;VALUE=DURATION:PT1H
X-Robots-Tag:noindex
X-PUBLISHED-TTL:PT1H
BEGIN:VTIMEZONE
TZID:America/New_York
BEGIN:DAYLIGHT
TZOFFSETFROM:-0500
TZOFFSETTO:-0400
TZNAME:EDT
DTSTART:20230312T070000
END:DAYLIGHT
BEGIN:STANDARD
TZOFFSETFROM:-0400
TZOFFSETTO:-0500
TZNAME:EST
DTSTART:20231105T060000
END:STANDARD
BEGIN:DAYLIGHT
TZOFFSETFROM:-0500
TZOFFSETTO:-0400
TZNAME:EDT
DTSTART:20240310T070000
END:DAYLIGHT
BEGIN:STANDARD
TZOFFSETFROM:-0400
TZOFFSETTO:-0500
TZNAME:EST
DTSTART:20241103T060000
END:STANDARD
BEGIN:DAYLIGHT
TZOFFSETFROM:-0500
TZOFFSETTO:-0400
TZNAME:EDT
DTSTART:20250309T070000
END:DAYLIGHT
BEGIN:STANDARD
TZOFFSETFROM:-0400
TZOFFSETTO:-0500
TZNAME:EST
DTSTART:20251102T060000
END:STANDARD
END:VTIMEZONE
BEGIN:VEVENT
DTSTART;TZID=America/New_York:20241122T170000
DTEND;TZID=America/New_York:20241129T200000
DTSTAMP:20260423T015355
CREATED:20231006T222339Z
LAST-MODIFIED:20241010T174620Z
UID:30087-1732294800-1732910400@auroraschoolofmusic.com
SUMMARY:Student Recitals – Friday November 22\, 2024
DESCRIPTION:Friday November 22\, 2024 Please visit https://auroraschoolofmusic.com/news/ for instructions and sign-ups.
URL:https://auroraschoolofmusic.com/event/student-recitals-friday-november-22-2024/
LOCATION:Holczer-Waroquet Concert Hall\, 211 South Chillicothe Road\, Aurora\, OH\, 44202\, United States
CATEGORIES:Live Stream
END:VEVENT
BEGIN:VEVENT
DTSTART;TZID=America/New_York:20241123T090000
DTEND;TZID=America/New_York:20241130T200000
DTSTAMP:20260423T015355
CREATED:20231006T222339Z
LAST-MODIFIED:20241010T174543Z
UID:30088-1732352400-1732996800@auroraschoolofmusic.com
SUMMARY:Student Recitals – Saturday November 23\, 2024
DESCRIPTION:Saturday November 23\, 2024 Please visit https://auroraschoolofmusic.com/news/ for instructions and sign-ups.
URL:https://auroraschoolofmusic.com/event/student-recitals-saturday-november-23-2024/
LOCATION:Holczer-Waroquet Concert Hall\, 211 South Chillicothe Road\, Aurora\, OH\, 44202\, United States
CATEGORIES:Live Stream
END:VEVENT
BEGIN:VEVENT
DTSTART;TZID=America/New_York:20241124T090000
DTEND;TZID=America/New_York:20241201T200000
DTSTAMP:20260423T015355
CREATED:20231006T222339Z
LAST-MODIFIED:20241010T174511Z
UID:30089-1732438800-1733083200@auroraschoolofmusic.com
SUMMARY:Student Recitals – Sunday November 24\, 2024
DESCRIPTION:Sunday November 24\, 2024 Please visit https://auroraschoolofmusic.com/news/ for instructions and sign-ups.
URL:https://auroraschoolofmusic.com/event/student-recitals-sunday-november-24-2024/
LOCATION:Holczer-Waroquet Concert Hall\, 211 South Chillicothe Road\, Aurora\, OH\, 44202\, United States
CATEGORIES:Live Stream
END:VEVENT
END:VCALENDAR