BEGIN:VCALENDAR
VERSION:2.0
PRODID:-//Aurora School Of Music - ECPv6.15.20//NONSGML v1.0//EN
CALSCALE:GREGORIAN
METHOD:PUBLISH
X-ORIGINAL-URL:https://auroraschoolofmusic.com
X-WR-CALDESC:Events for Aurora School Of Music
REFRESH-INTERVAL;VALUE=DURATION:PT1H
X-Robots-Tag:noindex
X-PUBLISHED-TTL:PT1H
BEGIN:VTIMEZONE
TZID:America/New_York
BEGIN:DAYLIGHT
TZOFFSETFROM:-0500
TZOFFSETTO:-0400
TZNAME:EDT
DTSTART:20250309T070000
END:DAYLIGHT
BEGIN:STANDARD
TZOFFSETFROM:-0400
TZOFFSETTO:-0500
TZNAME:EST
DTSTART:20251102T060000
END:STANDARD
BEGIN:DAYLIGHT
TZOFFSETFROM:-0500
TZOFFSETTO:-0400
TZNAME:EDT
DTSTART:20260308T070000
END:DAYLIGHT
BEGIN:STANDARD
TZOFFSETFROM:-0400
TZOFFSETTO:-0500
TZNAME:EST
DTSTART:20261101T060000
END:STANDARD
BEGIN:DAYLIGHT
TZOFFSETFROM:-0500
TZOFFSETTO:-0400
TZNAME:EDT
DTSTART:20270314T070000
END:DAYLIGHT
BEGIN:STANDARD
TZOFFSETFROM:-0400
TZOFFSETTO:-0500
TZNAME:EST
DTSTART:20271107T060000
END:STANDARD
END:VTIMEZONE
BEGIN:VEVENT
DTSTART;TZID=America/New_York:20260501T190000
DTEND;TZID=America/New_York:20260501T200000
DTSTAMP:20260422T101455
CREATED:20251211T172833Z
LAST-MODIFIED:20251211T172833Z
UID:43569-1777662000-1777665600@auroraschoolofmusic.com
SUMMARY:Pop Vocal Concert - Friday May 1\, 2026
DESCRIPTION:Friday\, May 1\, 2026 @ 7:00 PM
URL:https://auroraschoolofmusic.com/event/pop-vocal-concert-friday-may-1-2026-2/
CATEGORIES:Live Stream
END:VEVENT
BEGIN:VEVENT
DTSTART;TZID=America/New_York:20260515T170000
DTEND;TZID=America/New_York:20260515T203000
DTSTAMP:20260422T101455
CREATED:20251211T172843Z
LAST-MODIFIED:20251211T172843Z
UID:43571-1778864400-1778877000@auroraschoolofmusic.com
SUMMARY:Student Recitals – Friday May 15\, 2026
DESCRIPTION:Friday May 15\, 2026 Please visit https://auroraschoolofmusic.com/news/ for instructions and sign-ups.
URL:https://auroraschoolofmusic.com/event/student-recitals-friday-may-15-2026-2/
CATEGORIES:Live Stream
END:VEVENT
BEGIN:VEVENT
DTSTART;TZID=America/New_York:20260516T170000
DTEND;TZID=America/New_York:20260516T203000
DTSTAMP:20260422T101455
CREATED:20251211T172843Z
LAST-MODIFIED:20251211T172843Z
UID:43572-1778950800-1778963400@auroraschoolofmusic.com
SUMMARY:Student Recitals – Saturday May 16\, 2026
DESCRIPTION:Saturday May 16\, 2026 Please visit https://auroraschoolofmusic.com/news/ for instructions and sign-ups.
URL:https://auroraschoolofmusic.com/event/student-recitals-saturday-may-16-2026-2/
CATEGORIES:Live Stream
END:VEVENT
BEGIN:VEVENT
DTSTART;TZID=America/New_York:20260517T090000
DTEND;TZID=America/New_York:20260517T203000
DTSTAMP:20260422T101455
CREATED:20251211T172843Z
LAST-MODIFIED:20251211T172843Z
UID:43573-1779008400-1779049800@auroraschoolofmusic.com
SUMMARY:Student Recitals – Sunday May 17\, 2026
DESCRIPTION:Sunday May 17\, 2026 Please visit https://auroraschoolofmusic.com/news/ for instructions and sign-ups.
URL:https://auroraschoolofmusic.com/event/student-recitals-sunday-may-17-2026-2/
CATEGORIES:Live Stream
END:VEVENT
BEGIN:VEVENT
DTSTART;TZID=America/New_York:20260523T170000
DTEND;TZID=America/New_York:20260523T183000
DTSTAMP:20260422T101455
CREATED:20251211T172843Z
LAST-MODIFIED:20260204T200032Z
UID:43574-1779555600-1779561000@auroraschoolofmusic.com
SUMMARY:Rock Concert - Saturday May 23\, 2026
DESCRIPTION:Saturday\, May 23\, 2026 @ 5:00 PM
URL:https://auroraschoolofmusic.com/event/rock-concert-saturday-may-23-2026-2/
CATEGORIES:Live Stream
END:VEVENT
BEGIN:VEVENT
DTSTART;TZID=America/New_York:20260529T190000
DTEND;TZID=America/New_York:20260529T200000
DTSTAMP:20260422T101455
CREATED:20251211T172853Z
LAST-MODIFIED:20251211T172853Z
UID:43576-1780081200-1780084800@auroraschoolofmusic.com
SUMMARY:Contemporary Recital - Friday May 29\, 2026
DESCRIPTION:Frday\, May 29\, 2026 @ 7:00 PM
URL:https://auroraschoolofmusic.com/event/contemporary-recital-friday-may-29-2026-2/
CATEGORIES:Live Stream
END:VEVENT
BEGIN:VEVENT
DTSTART;TZID=America/New_York:20260530T193000
DTEND;TZID=America/New_York:20260530T203000
DTSTAMP:20260422T101455
CREATED:20251211T172853Z
LAST-MODIFIED:20251211T172853Z
UID:43577-1780169400-1780173000@auroraschoolofmusic.com
SUMMARY:Adult Student Recital - Saturday May 30\, 2026
DESCRIPTION:Saturday May 30\, 2026 @ 7:30 PM
URL:https://auroraschoolofmusic.com/event/adult-student-recital-saturday-may-30-2026-2/
CATEGORIES:Live Stream
END:VEVENT
BEGIN:VEVENT
DTSTART;TZID=America/New_York:20260531T170000
DTEND;TZID=America/New_York:20260531T180000
DTSTAMP:20260422T101455
CREATED:20251211T172853Z
LAST-MODIFIED:20260203T045717Z
UID:43578-1780246800-1780250400@auroraschoolofmusic.com
SUMMARY:Ensemble Showcase - Sunday May 31\, 2026
DESCRIPTION:Sunday\, May 31\, 2026 @ 5PM
URL:https://auroraschoolofmusic.com/event/ensemble-showcase-sunday-may-31-2026-2/
CATEGORIES:Live Stream
END:VEVENT
END:VCALENDAR