BEGIN:VCALENDAR
VERSION:2.0
PRODID:-//Aurora School Of Music - ECPv6.15.20//NONSGML v1.0//EN
CALSCALE:GREGORIAN
METHOD:PUBLISH
X-ORIGINAL-URL:https://auroraschoolofmusic.com
X-WR-CALDESC:Events for Aurora School Of Music
REFRESH-INTERVAL;VALUE=DURATION:PT1H
X-Robots-Tag:noindex
X-PUBLISHED-TTL:PT1H
BEGIN:VTIMEZONE
TZID:America/New_York
BEGIN:DAYLIGHT
TZOFFSETFROM:-0500
TZOFFSETTO:-0400
TZNAME:EDT
DTSTART:20250309T070000
END:DAYLIGHT
BEGIN:STANDARD
TZOFFSETFROM:-0400
TZOFFSETTO:-0500
TZNAME:EST
DTSTART:20251102T060000
END:STANDARD
BEGIN:DAYLIGHT
TZOFFSETFROM:-0500
TZOFFSETTO:-0400
TZNAME:EDT
DTSTART:20260308T070000
END:DAYLIGHT
BEGIN:STANDARD
TZOFFSETFROM:-0400
TZOFFSETTO:-0500
TZNAME:EST
DTSTART:20261101T060000
END:STANDARD
BEGIN:DAYLIGHT
TZOFFSETFROM:-0500
TZOFFSETTO:-0400
TZNAME:EDT
DTSTART:20270314T070000
END:DAYLIGHT
BEGIN:STANDARD
TZOFFSETFROM:-0400
TZOFFSETTO:-0500
TZNAME:EST
DTSTART:20271107T060000
END:STANDARD
END:VTIMEZONE
BEGIN:VEVENT
DTSTART;TZID=America/New_York:20261120T170000
DTEND;TZID=America/New_York:20261120T203000
DTSTAMP:20260422T205712
CREATED:20251211T172933Z
LAST-MODIFIED:20251211T172933Z
UID:43595-1795194000-1795206600@auroraschoolofmusic.com
SUMMARY:Student Recitals – Friday November 20\, 2026
DESCRIPTION:Friday November 20\, 2026 Please visit https://auroraschoolofmusic.com/news/ for instructions and sign-ups.
URL:https://auroraschoolofmusic.com/event/student-recitals-friday-november-20-2026-2/
CATEGORIES:Live Stream
END:VEVENT
END:VCALENDAR