BEGIN:VCALENDAR
VERSION:2.0
PRODID:-//Aurora School Of Music - ECPv6.15.20//NONSGML v1.0//EN
CALSCALE:GREGORIAN
METHOD:PUBLISH
X-ORIGINAL-URL:https://auroraschoolofmusic.com
X-WR-CALDESC:Events for Aurora School Of Music
REFRESH-INTERVAL;VALUE=DURATION:PT1H
X-Robots-Tag:noindex
X-PUBLISHED-TTL:PT1H
BEGIN:VTIMEZONE
TZID:America/New_York
BEGIN:DAYLIGHT
TZOFFSETFROM:-0500
TZOFFSETTO:-0400
TZNAME:EDT
DTSTART:20240310T070000
END:DAYLIGHT
BEGIN:STANDARD
TZOFFSETFROM:-0400
TZOFFSETTO:-0500
TZNAME:EST
DTSTART:20241103T060000
END:STANDARD
BEGIN:DAYLIGHT
TZOFFSETFROM:-0500
TZOFFSETTO:-0400
TZNAME:EDT
DTSTART:20250309T070000
END:DAYLIGHT
BEGIN:STANDARD
TZOFFSETFROM:-0400
TZOFFSETTO:-0500
TZNAME:EST
DTSTART:20251102T060000
END:STANDARD
BEGIN:DAYLIGHT
TZOFFSETFROM:-0500
TZOFFSETTO:-0400
TZNAME:EDT
DTSTART:20260308T070000
END:DAYLIGHT
BEGIN:STANDARD
TZOFFSETFROM:-0400
TZOFFSETTO:-0500
TZNAME:EST
DTSTART:20261101T060000
END:STANDARD
BEGIN:DAYLIGHT
TZOFFSETFROM:-0500
TZOFFSETTO:-0400
TZNAME:EDT
DTSTART:20270314T070000
END:DAYLIGHT
BEGIN:STANDARD
TZOFFSETFROM:-0400
TZOFFSETTO:-0500
TZNAME:EST
DTSTART:20271107T060000
END:STANDARD
END:VTIMEZONE
BEGIN:VEVENT
DTSTART;VALUE=DATE:20250609
DTEND;VALUE=DATE:20250621
DTSTAMP:20260423T031829
CREATED:20250122T024332Z
LAST-MODIFIED:20250221T162500Z
UID:38052-1749427200-1750463999@auroraschoolofmusic.com
SUMMARY:Orchestra Camp - June 9-20\, 2025
DESCRIPTION:June 9 – June 20\, 2025 \nAurora School of Music’s Orchestra and Chamber Music Camp is a two week collaborative music experience with the ASM Philharmonic Orchestra for students under the age of 18\, based on audition\, on May 24\, 2025. This opportunity offers a two week Monday through Friday schedule with classes and professional orchestra training taught by our Resident Conductor\, Yun Cao\, and ASM faculty. This will be an exceptional resume building opportunity for dedicated music students! \nMore information can be found on the sign up form below: \nhttps://form.jotform.com/250245595908162
URL:https://auroraschoolofmusic.com/event/orchestra-camp-june-9-20-2025/
END:VEVENT
BEGIN:VEVENT
DTSTART;TZID=America/New_York:20250620T180000
DTEND;TZID=America/New_York:20250620T210000
DTSTAMP:20260423T031829
CREATED:20250122T024332Z
LAST-MODIFIED:20250122T024332Z
UID:38053-1750442400-1750453200@auroraschoolofmusic.com
SUMMARY:ASM Summer Gala - Friday June 20\, 2025
DESCRIPTION:Friday\, June 20\, 2025 @ 6PM
URL:https://auroraschoolofmusic.com/event/asm-summer-gala-friday-june-20-2025/
CATEGORIES:Live Stream
END:VEVENT
BEGIN:VEVENT
DTSTART;VALUE=DATE:20250704
DTEND;VALUE=DATE:20250705
DTSTAMP:20260423T031829
CREATED:20250122T024333Z
LAST-MODIFIED:20250122T024333Z
UID:38054-1751587200-1751673599@auroraschoolofmusic.com
SUMMARY:Independence Day - School Closed - Friday July 4-Sunday July 6\, 2025
DESCRIPTION:The school will be closed Friday\, July 4- Sunday\, July 6 for families to be able to celebrate and travel. Lessons will resume Monday\, July 7th.
URL:https://auroraschoolofmusic.com/event/independence-day-school-closed-friday-july-4-sunday-july-6-2025/
END:VEVENT
BEGIN:VEVENT
DTSTART;VALUE=DATE:20250714
DTEND;VALUE=DATE:20250728
DTSTAMP:20260423T031829
CREATED:20250122T024347Z
LAST-MODIFIED:20250221T162735Z
UID:38055-1752451200-1753660799@auroraschoolofmusic.com
SUMMARY:Summer Scenes Program - July 14-27\, 2025
DESCRIPTION:July 14-27\, 2025 \nThe Scenes program aims to ready students for what a showcase may look like at a collegiate level. Many degree programs in Musical Theater or other vocal performance avenues will require participation in a freshman and a senior showcase. In true showcase fashion\, our two week intensive culminates into a wonderful showcase that is open to the public! Performances are Friday\, Saturday\, and Sunday at 7pm. \nSummer Scenes informational packets can be picked up at the front desk! \nhttps://form.jotform.com/250245622675154
URL:https://auroraschoolofmusic.com/event/summer-scenes-program-july-14-27-2025/
END:VEVENT
BEGIN:VEVENT
DTSTART;VALUE=DATE:20250809
DTEND;VALUE=DATE:20250820
DTSTAMP:20260423T031829
CREATED:20250122T024347Z
LAST-MODIFIED:20250122T024347Z
UID:38056-1754697600-1755647999@auroraschoolofmusic.com
SUMMARY:Recital Prep Classes - August 9-19 2025
DESCRIPTION:August 2025 Recital Prep Classes Check https://auroraschoolofmusic.com/news for schedules and instructions.
URL:https://auroraschoolofmusic.com/event/recital-prep-classes-august-9-19-2025/
END:VEVENT
BEGIN:VEVENT
DTSTART;TZID=America/New_York:20250822T170000
DTEND;TZID=America/New_York:20250822T200000
DTSTAMP:20260423T031829
CREATED:20250122T024347Z
LAST-MODIFIED:20250122T024347Z
UID:38057-1755882000-1755892800@auroraschoolofmusic.com
SUMMARY:Student Recitals – Friday August 22\, 2025
DESCRIPTION:Friday August 22\, 2025 Please visit https://auroraschoolofmusic.com/news/ for instructions and sign-ups.
URL:https://auroraschoolofmusic.com/event/student-recitals-friday-august-22-2025/
CATEGORIES:Live Stream
END:VEVENT
BEGIN:VEVENT
DTSTART;TZID=America/New_York:20250823T090000
DTEND;TZID=America/New_York:20250823T200000
DTSTAMP:20260423T031829
CREATED:20250122T024347Z
LAST-MODIFIED:20250122T024347Z
UID:38058-1755939600-1755979200@auroraschoolofmusic.com
SUMMARY:Student Recitals – Saturday August 23\, 2025
DESCRIPTION:Saturday August 23\, 2025 Please visit https://auroraschoolofmusic.com/news/ for instructions and sign-ups.
URL:https://auroraschoolofmusic.com/event/student-recitals-saturday-august-23-2025/
CATEGORIES:Live Stream
END:VEVENT
BEGIN:VEVENT
DTSTART;TZID=America/New_York:20250824T090000
DTEND;TZID=America/New_York:20250824T200000
DTSTAMP:20260423T031829
CREATED:20250122T024347Z
LAST-MODIFIED:20250122T024347Z
UID:38059-1756026000-1756065600@auroraschoolofmusic.com
SUMMARY:Student Recitals – Sunday August 24\, 2025
DESCRIPTION:Sunday August 24\, 2025 Please visit https://auroraschoolofmusic.com/news/ for instructions and sign-ups.
URL:https://auroraschoolofmusic.com/event/student-recitals-sunday-august-24-2025/
CATEGORIES:Live Stream
END:VEVENT
BEGIN:VEVENT
DTSTART;TZID=America/New_York:20250830T170000
DTEND;TZID=America/New_York:20250830T190000
DTSTAMP:20260423T031829
CREATED:20250122T024402Z
LAST-MODIFIED:20250830T185801Z
UID:38060-1756573200-1756580400@auroraschoolofmusic.com
SUMMARY:Rock Concert - Saturday August 30\, 2025
DESCRIPTION:Saturday\, August 30\, 2025 @ 5:00 PM
URL:https://auroraschoolofmusic.com/event/rock-concert-1-saturday-august-30-2025/
CATEGORIES:Live Stream
END:VEVENT
BEGIN:VEVENT
DTSTART;VALUE=DATE:20250901
DTEND;VALUE=DATE:20250902
DTSTAMP:20260423T031829
CREATED:20250122T024402Z
LAST-MODIFIED:20250122T024402Z
UID:38062-1756684800-1756771199@auroraschoolofmusic.com
SUMMARY:Labor Day - School Closed - Monday September 1\, 2025
DESCRIPTION:Monday September 1\, 2025
URL:https://auroraschoolofmusic.com/event/labor-day-school-closed-monday-september-1-2025/
END:VEVENT
BEGIN:VEVENT
DTSTART;TZID=America/New_York:20250905T190000
DTEND;TZID=America/New_York:20250905T200000
DTSTAMP:20260423T031829
CREATED:20250122T024402Z
LAST-MODIFIED:20250131T203451Z
UID:38063-1757098800-1757102400@auroraschoolofmusic.com
SUMMARY:Contemporary Recital - Friday September 5\, 2025
DESCRIPTION:Frday\, September 5\, 2025 @ 7:00 PM
URL:https://auroraschoolofmusic.com/event/contemporary-recital-friday-september-5-2025/
CATEGORIES:Live Stream
END:VEVENT
BEGIN:VEVENT
DTSTART;TZID=America/New_York:20250906T170000
DTEND;TZID=America/New_York:20250906T183000
DTSTAMP:20260423T031829
CREATED:20250122T024403Z
LAST-MODIFIED:20250131T203409Z
UID:38064-1757178000-1757183400@auroraschoolofmusic.com
SUMMARY:Adult Student Recital - Saturday September 6\, 2025
DESCRIPTION:Saturday September 6\, 2025 @ 5:00 PM
URL:https://auroraschoolofmusic.com/event/adult-student-recital-saturday-september-6-2025/
CATEGORIES:Live Stream
END:VEVENT
BEGIN:VEVENT
DTSTART;TZID=America/New_York:20250907T120000
DTEND;TZID=America/New_York:20250907T130000
DTSTAMP:20260423T031829
CREATED:20250122T024417Z
LAST-MODIFIED:20250122T024417Z
UID:38065-1757246400-1757250000@auroraschoolofmusic.com
SUMMARY:Ensemble Showcase - Sunday September 7\, 2025
DESCRIPTION:Sunday\, September 7\, 2025 @ Noon
URL:https://auroraschoolofmusic.com/event/ensemble-showcase-sunday-september-7-2025/
CATEGORIES:Live Stream
END:VEVENT
BEGIN:VEVENT
DTSTART;TZID=America/New_York:20251004T170000
DTEND;TZID=America/New_York:20251004T183000
DTSTAMP:20260423T031829
CREATED:20250122T024417Z
LAST-MODIFIED:20250122T024417Z
UID:38066-1759597200-1759602600@auroraschoolofmusic.com
SUMMARY:Adult Rock Concert - Saturday October 4\, 2025
DESCRIPTION:Saturday\, October 4\, 2025 @ 5:00 PM
URL:https://auroraschoolofmusic.com/event/adult-rock-concert-saturday-october-4-2025/
CATEGORIES:Live Stream
END:VEVENT
BEGIN:VEVENT
DTSTART;TZID=America/New_York:20251031T173000
DTEND;TZID=America/New_York:20251031T235900
DTSTAMP:20260423T031829
CREATED:20250122T024417Z
LAST-MODIFIED:20250122T024417Z
UID:38067-1761931800-1761955140@auroraschoolofmusic.com
SUMMARY:Halloween Night Off Early - Friday October 31\, 2025
DESCRIPTION:Friday\, October 31\, 2025 @ 5:30 PM
URL:https://auroraschoolofmusic.com/event/halloween-night-off-early-friday-october-31-2025/
CATEGORIES:Live Stream
END:VEVENT
BEGIN:VEVENT
DTSTART;TZID=America/New_York:20251107T190000
DTEND;TZID=America/New_York:20251107T200000
DTSTAMP:20260423T031829
CREATED:20250122T024418Z
LAST-MODIFIED:20250122T024418Z
UID:38068-1762542000-1762545600@auroraschoolofmusic.com
SUMMARY:Pop Vocal Concert - Friday November 7\, 2025
DESCRIPTION:Friday\, November 7\, 2025 @ 7:00 PM
URL:https://auroraschoolofmusic.com/event/pop-vocal-concert-friday-november-7-2025/
CATEGORIES:Live Stream
END:VEVENT
BEGIN:VEVENT
DTSTART;VALUE=DATE:20251108
DTEND;VALUE=DATE:20251119
DTSTAMP:20260423T031829
CREATED:20250122T024418Z
LAST-MODIFIED:20250122T024418Z
UID:38069-1762560000-1763510399@auroraschoolofmusic.com
SUMMARY:Recital Prep Classes - November 2025
DESCRIPTION:November 2025 Recital Prep Classes Check https://auroraschoolofmusic.com/news for schedules and instructions.
URL:https://auroraschoolofmusic.com/event/recital-prep-classes-november-2025/
END:VEVENT
BEGIN:VEVENT
DTSTART;TZID=America/New_York:20251121T170000
DTEND;TZID=America/New_York:20251121T200000
DTSTAMP:20260423T031829
CREATED:20250122T024432Z
LAST-MODIFIED:20250122T024432Z
UID:38070-1763744400-1763755200@auroraschoolofmusic.com
SUMMARY:Student Recitals – Friday November 21\, 2025
DESCRIPTION:Friday November 21\, 2025 Please visit https://auroraschoolofmusic.com/news/ for instructions and sign-ups.
URL:https://auroraschoolofmusic.com/event/student-recitals-friday-november-21-2025/
CATEGORIES:Live Stream
END:VEVENT
BEGIN:VEVENT
DTSTART;TZID=America/New_York:20251122T090000
DTEND;TZID=America/New_York:20251122T200000
DTSTAMP:20260423T031829
CREATED:20250122T024432Z
LAST-MODIFIED:20250122T024432Z
UID:38071-1763802000-1763841600@auroraschoolofmusic.com
SUMMARY:Student Recitals – Saturday November 22\, 2025
DESCRIPTION:Saturday November 22\, 2025 Please visit https://auroraschoolofmusic.com/news/ for instructions and sign-ups.
URL:https://auroraschoolofmusic.com/event/student-recitals-saturday-november-22-2025/
CATEGORIES:Live Stream
END:VEVENT
BEGIN:VEVENT
DTSTART;TZID=America/New_York:20251123T090000
DTEND;TZID=America/New_York:20251123T200000
DTSTAMP:20260423T031829
CREATED:20250122T024432Z
LAST-MODIFIED:20250122T024432Z
UID:38072-1763888400-1763928000@auroraschoolofmusic.com
SUMMARY:Student Recitals – Sunday November 23\, 2025
DESCRIPTION:Sunday November 23\, 2025 Please visit https://auroraschoolofmusic.com/news/ for instructions and sign-ups.
URL:https://auroraschoolofmusic.com/event/student-recitals-sunday-november-23-2025/
CATEGORIES:Live Stream
END:VEVENT
BEGIN:VEVENT
DTSTART;VALUE=DATE:20251126
DTEND;VALUE=DATE:20251201
DTSTAMP:20260423T031829
CREATED:20250122T024433Z
LAST-MODIFIED:20250122T024433Z
UID:38073-1764115200-1764547199@auroraschoolofmusic.com
SUMMARY:Thanksgiving Break - School Closed - November 26-30\, 2025
DESCRIPTION:Wednesday November 26\, 2025 – Sunday November 30\, 2025. Happy Thanksgiving!
URL:https://auroraschoolofmusic.com/event/thanksgiving-break-school-closed-november-26-30-2025/
END:VEVENT
BEGIN:VEVENT
DTSTART;TZID=America/New_York:20251206T170000
DTEND;TZID=America/New_York:20251206T183000
DTSTAMP:20260423T031829
CREATED:20250122T024433Z
LAST-MODIFIED:20250830T185848Z
UID:38074-1765040400-1765045800@auroraschoolofmusic.com
SUMMARY:Rock Concert - Saturday December 6\, 2025
DESCRIPTION:Saturday December 6\, 2025 – 5PM
URL:https://auroraschoolofmusic.com/event/rock-concert-1-saturday-december-6-2025/
CATEGORIES:Live Stream
END:VEVENT
BEGIN:VEVENT
DTSTART;TZID=America/New_York:20251212T190000
DTEND;TZID=America/New_York:20251212T200000
DTSTAMP:20260423T031829
CREATED:20250122T024447Z
LAST-MODIFIED:20250122T024447Z
UID:38076-1765566000-1765569600@auroraschoolofmusic.com
SUMMARY:Contemporary Recital - Friday December 12\, 2025
DESCRIPTION:Friday\, December 12\, 2025 @ 7:00 PM
URL:https://auroraschoolofmusic.com/event/contemporary-recital-friday-december-12-2025/
CATEGORIES:Live Stream
END:VEVENT
BEGIN:VEVENT
DTSTART;TZID=America/New_York:20251213T170000
DTEND;TZID=America/New_York:20251213T183000
DTSTAMP:20260423T031829
CREATED:20250122T024447Z
LAST-MODIFIED:20250131T203256Z
UID:38077-1765645200-1765650600@auroraschoolofmusic.com
SUMMARY:Adult Student Recital - Saturday December 13\, 2025
DESCRIPTION:Saturday December 13\, 2025 @ 5:00 PM
URL:https://auroraschoolofmusic.com/event/adult-student-recital-saturday-december-13-2025/
CATEGORIES:Live Stream
END:VEVENT
BEGIN:VEVENT
DTSTART;TZID=America/New_York:20251214T120000
DTEND;TZID=America/New_York:20251214T130000
DTSTAMP:20260423T031829
CREATED:20250122T024448Z
LAST-MODIFIED:20250122T024448Z
UID:38078-1765713600-1765717200@auroraschoolofmusic.com
SUMMARY:Ensemble Showcase - Sunday December 14\, 2025
DESCRIPTION:Sunday\, December 14\, 2025 @ Noon
URL:https://auroraschoolofmusic.com/event/ensemble-showcase-sunday-december-14-2025/
CATEGORIES:Live Stream
END:VEVENT
BEGIN:VEVENT
DTSTART;TZID=America/New_York:20260124T000000
DTEND;TZID=America/New_York:20260203T235900
DTSTAMP:20260423T031829
CREATED:20251211T172826Z
LAST-MODIFIED:20251211T172826Z
UID:43555-1769212800-1770163140@auroraschoolofmusic.com
SUMMARY:Recital Prep Classes - February 2026
DESCRIPTION:February 2026 Recital Prep Classes Check https://auroraschoolofmusic.com/news for schedules and instructions.
URL:https://auroraschoolofmusic.com/event/recital-prep-classes-february-2026-2/
END:VEVENT
BEGIN:VEVENT
DTSTART;TZID=America/New_York:20260206T170000
DTEND;TZID=America/New_York:20260206T203000
DTSTAMP:20260423T031829
CREATED:20251211T172826Z
LAST-MODIFIED:20251211T172826Z
UID:43556-1770397200-1770409800@auroraschoolofmusic.com
SUMMARY:Student Recitals – Friday February 6\, 2026
DESCRIPTION:Friday February 6\, 2026 Please visit https://auroraschoolofmusic.com/news/ for instructions and sign-ups.
URL:https://auroraschoolofmusic.com/event/student-recitals-friday-february-6-2026-2/
CATEGORIES:Live Stream
END:VEVENT
BEGIN:VEVENT
DTSTART;TZID=America/New_York:20260207T090000
DTEND;TZID=America/New_York:20260207T203000
DTSTAMP:20260423T031829
CREATED:20251211T172826Z
LAST-MODIFIED:20251211T172826Z
UID:43557-1770454800-1770496200@auroraschoolofmusic.com
SUMMARY:Student Recitals – Saturday February 7\, 2026
DESCRIPTION:Saturday February 7\, 2026 Please visit https://auroraschoolofmusic.com/news/ for instructions and sign-ups.
URL:https://auroraschoolofmusic.com/event/student-recitals-saturday-february-7-2026-2/
CATEGORIES:Live Stream
END:VEVENT
BEGIN:VEVENT
DTSTART;TZID=America/New_York:20260208T090000
DTEND;TZID=America/New_York:20260208T203000
DTSTAMP:20260423T031829
CREATED:20251211T172826Z
LAST-MODIFIED:20251211T172826Z
UID:43558-1770541200-1770582600@auroraschoolofmusic.com
SUMMARY:Student Recitals – Sunday February 8\, 2026
DESCRIPTION:Sunday February 8\, 2026 Please visit https://auroraschoolofmusic.com/news/ for instructions and sign-ups.
URL:https://auroraschoolofmusic.com/event/student-recitals-sunday-february-8-2026-2/
CATEGORIES:Live Stream
END:VEVENT
BEGIN:VEVENT
DTSTART;TZID=America/New_York:20260214T173000
DTEND;TZID=America/New_York:20260214T183000
DTSTAMP:20260423T031829
CREATED:20251211T172826Z
LAST-MODIFIED:20260207T200712Z
UID:43559-1771090200-1771093800@auroraschoolofmusic.com
SUMMARY:Rock Concert - Saturday February 14\, 2026
DESCRIPTION:Saturday\, February 14\, 2026 @ 5:30 PM
URL:https://auroraschoolofmusic.com/event/rock-concert-saturday-february-14-2026-2/
CATEGORIES:Live Stream
END:VEVENT
END:VCALENDAR