BEGIN:VCALENDAR
VERSION:2.0
PRODID:-//Aurora School Of Music - ECPv6.15.20//NONSGML v1.0//EN
CALSCALE:GREGORIAN
METHOD:PUBLISH
X-ORIGINAL-URL:https://auroraschoolofmusic.com
X-WR-CALDESC:Events for Aurora School Of Music
REFRESH-INTERVAL;VALUE=DURATION:PT1H
X-Robots-Tag:noindex
X-PUBLISHED-TTL:PT1H
BEGIN:VTIMEZONE
TZID:America/New_York
BEGIN:DAYLIGHT
TZOFFSETFROM:-0500
TZOFFSETTO:-0400
TZNAME:EDT
DTSTART:20230312T070000
END:DAYLIGHT
BEGIN:STANDARD
TZOFFSETFROM:-0400
TZOFFSETTO:-0500
TZNAME:EST
DTSTART:20231105T060000
END:STANDARD
BEGIN:DAYLIGHT
TZOFFSETFROM:-0500
TZOFFSETTO:-0400
TZNAME:EDT
DTSTART:20240310T070000
END:DAYLIGHT
BEGIN:STANDARD
TZOFFSETFROM:-0400
TZOFFSETTO:-0500
TZNAME:EST
DTSTART:20241103T060000
END:STANDARD
BEGIN:DAYLIGHT
TZOFFSETFROM:-0500
TZOFFSETTO:-0400
TZNAME:EDT
DTSTART:20250309T070000
END:DAYLIGHT
BEGIN:STANDARD
TZOFFSETFROM:-0400
TZOFFSETTO:-0500
TZNAME:EST
DTSTART:20251102T060000
END:STANDARD
END:VTIMEZONE
BEGIN:VEVENT
DTSTART;TZID=America/New_York:20240503T190000
DTEND;TZID=America/New_York:20240503T200000
DTSTAMP:20260423T185132
CREATED:20231006T222211Z
LAST-MODIFIED:20240207T013110Z
UID:30059-1714762800-1714766400@auroraschoolofmusic.com
SUMMARY:Pop Vocal Concert - Friday May 3\, 2024
DESCRIPTION:Friday\, May 3\, 2024 @ 7:00 PM
URL:https://auroraschoolofmusic.com/event/pop-vocal-concert-friday-may-3-2024/
LOCATION:Holczer-Waroquet Concert Hall\, 211 South Chillicothe Road\, Aurora\, OH\, 44202\, United States
CATEGORIES:Live Stream
END:VEVENT
BEGIN:VEVENT
DTSTART;VALUE=DATE:20240504
DTEND;VALUE=DATE:20240515
DTSTAMP:20260423T185132
CREATED:20231006T222211Z
LAST-MODIFIED:20231006T222211Z
UID:30061-1714780800-1715731199@auroraschoolofmusic.com
SUMMARY:Recital Prep Classes - May 2024
DESCRIPTION:May 2024 Recital Prep Classes Check https://auroraschoolofmusic.com/news for schedules and instructions.
URL:https://auroraschoolofmusic.com/event/recital-prep-classes-may-2024/
LOCATION:Holczer-Waroquet Concert Hall\, 211 South Chillicothe Road\, Aurora\, OH\, 44202\, United States
END:VEVENT
BEGIN:VEVENT
DTSTART;TZID=America/New_York:20240517T170000
DTEND;TZID=America/New_York:20240517T200000
DTSTAMP:20260423T185132
CREATED:20231006T222229Z
LAST-MODIFIED:20240207T013141Z
UID:30062-1715965200-1715976000@auroraschoolofmusic.com
SUMMARY:Student Recitals – Friday May 17\, 2024
DESCRIPTION:Friday May 17\, 2024 Please visit https://auroraschoolofmusic.com/news/ for instructions and sign-ups.
URL:https://auroraschoolofmusic.com/event/student-recitals-friday-may-17-2024/
LOCATION:Holczer-Waroquet Concert Hall\, 211 South Chillicothe Road\, Aurora\, OH\, 44202\, United States
CATEGORIES:Live Stream
END:VEVENT
BEGIN:VEVENT
DTSTART;TZID=America/New_York:20240518T090000
DTEND;TZID=America/New_York:20240518T200000
DTSTAMP:20260423T185132
CREATED:20231006T222229Z
LAST-MODIFIED:20240207T013154Z
UID:30063-1716022800-1716062400@auroraschoolofmusic.com
SUMMARY:Student Recitals – Saturday May 18\, 2024
DESCRIPTION:Saturday May 18\, 2024 Please visit https://auroraschoolofmusic.com/news/ for instructions and sign-ups.
URL:https://auroraschoolofmusic.com/event/student-recitals-saturday-may-18-2024/
LOCATION:Holczer-Waroquet Concert Hall\, 211 South Chillicothe Road\, Aurora\, OH\, 44202\, United States
CATEGORIES:Live Stream
END:VEVENT
BEGIN:VEVENT
DTSTART;TZID=America/New_York:20240519T090000
DTEND;TZID=America/New_York:20240519T200000
DTSTAMP:20260423T185132
CREATED:20231006T222229Z
LAST-MODIFIED:20240207T013207Z
UID:30064-1716109200-1716148800@auroraschoolofmusic.com
SUMMARY:Student Recitals – Sunday May 19\, 2024
DESCRIPTION:Sunday May 19\, 2024 Please visit https://auroraschoolofmusic.com/news/ for instructions and sign-ups.
URL:https://auroraschoolofmusic.com/event/student-recitals-sunday-may-19-2024/
LOCATION:Holczer-Waroquet Concert Hall\, 211 South Chillicothe Road\, Aurora\, OH\, 44202\, United States
CATEGORIES:Live Stream
END:VEVENT
BEGIN:VEVENT
DTSTART;TZID=America/New_York:20240524T190000
DTEND;TZID=America/New_York:20240524T210000
DTSTAMP:20260423T185132
CREATED:20231006T222229Z
LAST-MODIFIED:20240524T133702Z
UID:30065-1716577200-1716584400@auroraschoolofmusic.com
SUMMARY:Adult Student Recital - Friday May 24\, 2024
DESCRIPTION:Friday\, May 24\, 2024 @ 7:00 PM
URL:https://auroraschoolofmusic.com/event/adult-student-recital-friday-may-24-2024/
LOCATION:Holczer-Waroquet Concert Hall\, 211 South Chillicothe Road\, Aurora\, OH\, 44202\, United States
CATEGORIES:Live Stream
END:VEVENT
BEGIN:VEVENT
DTSTART;VALUE=DATE:20240527
DTEND;VALUE=DATE:20240528
DTSTAMP:20260423T185132
CREATED:20231006T222229Z
LAST-MODIFIED:20231006T222229Z
UID:30066-1716768000-1716854399@auroraschoolofmusic.com
SUMMARY:Memorial Day - School Closed - Monday May 27\, 2024
DESCRIPTION:Monday May 27\, 2024
URL:https://auroraschoolofmusic.com/event/memorial-day-school-closed-monday-may-27-2024/
END:VEVENT
END:VCALENDAR