BEGIN:VCALENDAR
VERSION:2.0
PRODID:-//Aurora School Of Music - ECPv6.15.20//NONSGML v1.0//EN
CALSCALE:GREGORIAN
METHOD:PUBLISH
X-WR-CALNAME:Aurora School Of Music
X-ORIGINAL-URL:https://auroraschoolofmusic.com
X-WR-CALDESC:Events for Aurora School Of Music
REFRESH-INTERVAL;VALUE=DURATION:PT1H
X-Robots-Tag:noindex
X-PUBLISHED-TTL:PT1H
BEGIN:VTIMEZONE
TZID:America/New_York
BEGIN:DAYLIGHT
TZOFFSETFROM:-0500
TZOFFSETTO:-0400
TZNAME:EDT
DTSTART:20230312T070000
END:DAYLIGHT
BEGIN:STANDARD
TZOFFSETFROM:-0400
TZOFFSETTO:-0500
TZNAME:EST
DTSTART:20231105T060000
END:STANDARD
BEGIN:DAYLIGHT
TZOFFSETFROM:-0500
TZOFFSETTO:-0400
TZNAME:EDT
DTSTART:20240310T070000
END:DAYLIGHT
BEGIN:STANDARD
TZOFFSETFROM:-0400
TZOFFSETTO:-0500
TZNAME:EST
DTSTART:20241103T060000
END:STANDARD
BEGIN:DAYLIGHT
TZOFFSETFROM:-0500
TZOFFSETTO:-0400
TZNAME:EDT
DTSTART:20250309T070000
END:DAYLIGHT
BEGIN:STANDARD
TZOFFSETFROM:-0400
TZOFFSETTO:-0500
TZNAME:EST
DTSTART:20251102T060000
END:STANDARD
END:VTIMEZONE
BEGIN:VEVENT
DTSTART;VALUE=DATE:20240810
DTEND;VALUE=DATE:20240821
DTSTAMP:20260423T150145
CREATED:20231006T222254Z
LAST-MODIFIED:20240709T193524Z
UID:30073-1723248000-1724198399@auroraschoolofmusic.com
SUMMARY:Recital Prep Classes - August 10-20 2024
DESCRIPTION:August 2024 Recital Prep Classes Check https://auroraschoolofmusic.com/news for schedules and instructions.
URL:https://auroraschoolofmusic.com/event/recital-prep-classes-august-10-20-2024/
LOCATION:Holczer-Waroquet Concert Hall\, 211 South Chillicothe Road\, Aurora\, OH\, 44202\, United States
END:VEVENT
BEGIN:VEVENT
DTSTART;TZID=America/New_York:20240823T170000
DTEND;TZID=America/New_York:20240823T200000
DTSTAMP:20260423T150145
CREATED:20231006T222254Z
LAST-MODIFIED:20240207T013323Z
UID:30074-1724432400-1724443200@auroraschoolofmusic.com
SUMMARY:Student Recitals – Friday August 23\, 2024
DESCRIPTION:Friday August 23\, 2024 Please visit https://auroraschoolofmusic.com/news/ for instructions and sign-ups.
URL:https://auroraschoolofmusic.com/event/student-recitals-friday-august-23-2024/
LOCATION:Holczer-Waroquet Concert Hall\, 211 South Chillicothe Road\, Aurora\, OH\, 44202\, United States
CATEGORIES:Live Stream
END:VEVENT
BEGIN:VEVENT
DTSTART;TZID=America/New_York:20240824T090000
DTEND;TZID=America/New_York:20240824T200000
DTSTAMP:20260423T150145
CREATED:20231006T222254Z
LAST-MODIFIED:20240207T013338Z
UID:30075-1724490000-1724529600@auroraschoolofmusic.com
SUMMARY:Student Recitals – Saturday August 24\, 2024
DESCRIPTION:Saturday August 24\, 2024 Please visit https://auroraschoolofmusic.com/news/ for instructions and sign-ups.
URL:https://auroraschoolofmusic.com/event/student-recitals-saturday-august-24-2024/
LOCATION:Holczer-Waroquet Concert Hall\, 211 South Chillicothe Road\, Aurora\, OH\, 44202\, United States
CATEGORIES:Live Stream
END:VEVENT
BEGIN:VEVENT
DTSTART;TZID=America/New_York:20240825T090000
DTEND;TZID=America/New_York:20240825T200000
DTSTAMP:20260423T150145
CREATED:20231006T222254Z
LAST-MODIFIED:20240207T013354Z
UID:30076-1724576400-1724616000@auroraschoolofmusic.com
SUMMARY:Student Recitals – Sunday August 25\, 2024
DESCRIPTION:Sunday August 25\, 2024 Please visit https://auroraschoolofmusic.com/news/ for instructions and sign-ups.
URL:https://auroraschoolofmusic.com/event/student-recitals-sunday-august-25-2024/
LOCATION:Holczer-Waroquet Concert Hall\, 211 South Chillicothe Road\, Aurora\, OH\, 44202\, United States
CATEGORIES:Live Stream
END:VEVENT
BEGIN:VEVENT
DTSTART;TZID=America/New_York:20240831T170000
DTEND;TZID=America/New_York:20240831T173000
DTSTAMP:20260423T150145
CREATED:20231006T222309Z
LAST-MODIFIED:20240830T193539Z
UID:30079-1725123600-1725125400@auroraschoolofmusic.com
SUMMARY:Rock Concert - Saturday August 31\, 2024
DESCRIPTION:Saturday\, August 31\, 2024 @ 5:00 PM
URL:https://auroraschoolofmusic.com/event/rock-concert-saturday-august-31-2024/
LOCATION:Holczer-Waroquet Concert Hall\, 211 South Chillicothe Road\, Aurora\, OH\, 44202\, United States
CATEGORIES:Live Stream
END:VEVENT
END:VCALENDAR