BEGIN:VCALENDAR
VERSION:2.0
PRODID:-//Aurora School Of Music - ECPv6.15.20//NONSGML v1.0//EN
CALSCALE:GREGORIAN
METHOD:PUBLISH
X-WR-CALNAME:Aurora School Of Music
X-ORIGINAL-URL:https://auroraschoolofmusic.com
X-WR-CALDESC:Events for Aurora School Of Music
REFRESH-INTERVAL;VALUE=DURATION:PT1H
X-Robots-Tag:noindex
X-PUBLISHED-TTL:PT1H
BEGIN:VTIMEZONE
TZID:America/New_York
BEGIN:DAYLIGHT
TZOFFSETFROM:-0500
TZOFFSETTO:-0400
TZNAME:EDT
DTSTART:20230312T070000
END:DAYLIGHT
BEGIN:STANDARD
TZOFFSETFROM:-0400
TZOFFSETTO:-0500
TZNAME:EST
DTSTART:20231105T060000
END:STANDARD
BEGIN:DAYLIGHT
TZOFFSETFROM:-0500
TZOFFSETTO:-0400
TZNAME:EDT
DTSTART:20240310T070000
END:DAYLIGHT
BEGIN:STANDARD
TZOFFSETFROM:-0400
TZOFFSETTO:-0500
TZNAME:EST
DTSTART:20241103T060000
END:STANDARD
BEGIN:DAYLIGHT
TZOFFSETFROM:-0500
TZOFFSETTO:-0400
TZNAME:EDT
DTSTART:20250309T070000
END:DAYLIGHT
BEGIN:STANDARD
TZOFFSETFROM:-0400
TZOFFSETTO:-0500
TZNAME:EST
DTSTART:20251102T060000
END:STANDARD
END:VTIMEZONE
BEGIN:VEVENT
DTSTART;TZID=America/New_York:20241005T170000
DTEND;TZID=America/New_York:20241005T190000
DTSTAMP:20260423T120601
CREATED:20231006T222324Z
LAST-MODIFIED:20240713T172609Z
UID:30082-1728147600-1728154800@auroraschoolofmusic.com
SUMMARY:Adult Rock Concert - Saturday October 5\, 2024
DESCRIPTION:Saturday\, October 5\, 2024 @ 5:00 PM
URL:https://auroraschoolofmusic.com/event/adult-rock-concert-saturday-october-5-2024/
LOCATION:Holczer-Waroquet Concert Hall\, 211 South Chillicothe Road\, Aurora\, OH\, 44202\, United States
CATEGORIES:Live Stream
END:VEVENT
BEGIN:VEVENT
DTSTART;TZID=America/New_York:20241025T190000
DTEND;TZID=America/New_York:20241025T200000
DTSTAMP:20260423T120601
CREATED:20231006T222324Z
LAST-MODIFIED:20240713T172514Z
UID:30083-1729882800-1729886400@auroraschoolofmusic.com
SUMMARY:Pop Vocal Concert - Friday October 25\, 2024
DESCRIPTION:Friday\, October 25\, 2024 @ 7:00 PM
URL:https://auroraschoolofmusic.com/event/pop-vocal-concert-friday-october-25-2024/
LOCATION:Holczer-Waroquet Concert Hall\, 211 South Chillicothe Road\, Aurora\, OH\, 44202\, United States
CATEGORIES:Live Stream
END:VEVENT
END:VCALENDAR