BEGIN:VCALENDAR
VERSION:2.0
PRODID:-//Aurora School Of Music - ECPv6.15.20//NONSGML v1.0//EN
CALSCALE:GREGORIAN
METHOD:PUBLISH
X-ORIGINAL-URL:https://auroraschoolofmusic.com
X-WR-CALDESC:Events for Aurora School Of Music
REFRESH-INTERVAL;VALUE=DURATION:PT1H
X-Robots-Tag:noindex
X-PUBLISHED-TTL:PT1H
BEGIN:VTIMEZONE
TZID:America/New_York
BEGIN:DAYLIGHT
TZOFFSETFROM:-0500
TZOFFSETTO:-0400
TZNAME:EDT
DTSTART:20240310T070000
END:DAYLIGHT
BEGIN:STANDARD
TZOFFSETFROM:-0400
TZOFFSETTO:-0500
TZNAME:EST
DTSTART:20241103T060000
END:STANDARD
BEGIN:DAYLIGHT
TZOFFSETFROM:-0500
TZOFFSETTO:-0400
TZNAME:EDT
DTSTART:20250309T070000
END:DAYLIGHT
BEGIN:STANDARD
TZOFFSETFROM:-0400
TZOFFSETTO:-0500
TZNAME:EST
DTSTART:20251102T060000
END:STANDARD
BEGIN:DAYLIGHT
TZOFFSETFROM:-0500
TZOFFSETTO:-0400
TZNAME:EDT
DTSTART:20260308T070000
END:DAYLIGHT
BEGIN:STANDARD
TZOFFSETFROM:-0400
TZOFFSETTO:-0500
TZNAME:EST
DTSTART:20261101T060000
END:STANDARD
END:VTIMEZONE
BEGIN:VEVENT
DTSTART;VALUE=DATE:20250125
DTEND;VALUE=DATE:20250205
DTSTAMP:20260423T062812
CREATED:20250122T023258Z
LAST-MODIFIED:20250122T023258Z
UID:38021-1737763200-1738713599@auroraschoolofmusic.com
SUMMARY:Recital Prep Classes - February 2025
DESCRIPTION:February 2025 Recital Prep Classes Check https://auroraschoolofmusic.com/news for schedules and instructions.
URL:https://auroraschoolofmusic.com/event/recital-prep-classes-february-2025-4/
CATEGORIES:Live Stream
END:VEVENT
BEGIN:VEVENT
DTSTART;TZID=America/New_York:20250207T170000
DTEND;TZID=America/New_York:20250207T200000
DTSTAMP:20260423T062812
CREATED:20250122T024043Z
LAST-MODIFIED:20250122T024043Z
UID:38025-1738947600-1738958400@auroraschoolofmusic.com
SUMMARY:Student Recitals – Friday February 7\, 2025
DESCRIPTION:Friday February 7\, 2025 Please visit https://auroraschoolofmusic.com/news/ for instructions and sign-ups.
URL:https://auroraschoolofmusic.com/event/student-recitals-friday-february-7-2025-3/
CATEGORIES:Live Stream
END:VEVENT
BEGIN:VEVENT
DTSTART;TZID=America/New_York:20250208T090000
DTEND;TZID=America/New_York:20250208T200000
DTSTAMP:20260423T062812
CREATED:20250122T024044Z
LAST-MODIFIED:20250122T024044Z
UID:38026-1739005200-1739044800@auroraschoolofmusic.com
SUMMARY:Student Recitals – Saturday February 8\, 2025
DESCRIPTION:Saturday February 11\, 2025 Please visit https://auroraschoolofmusic.com/news/ for instructions and sign-ups.
URL:https://auroraschoolofmusic.com/event/student-recitals-saturday-february-8-2025-2/
CATEGORIES:Live Stream
END:VEVENT
BEGIN:VEVENT
DTSTART;TZID=America/New_York:20250209T090000
DTEND;TZID=America/New_York:20250209T200000
DTSTAMP:20260423T062812
CREATED:20250122T024044Z
LAST-MODIFIED:20250122T024044Z
UID:38027-1739091600-1739131200@auroraschoolofmusic.com
SUMMARY:Student Recitals – Sunday February 9\, 2025
DESCRIPTION:Sunday February 12\, 2025 Please visit https://auroraschoolofmusic.com/news/ for instructions and sign-ups.
URL:https://auroraschoolofmusic.com/event/student-recitals-sunday-february-9-2025/
CATEGORIES:Live Stream
END:VEVENT
BEGIN:VEVENT
DTSTART;TZID=America/New_York:20250215T170000
DTEND;TZID=America/New_York:20250215T180000
DTSTAMP:20260423T062812
CREATED:20250122T024245Z
LAST-MODIFIED:20250131T201410Z
UID:38031-1739638800-1739642400@auroraschoolofmusic.com
SUMMARY:Rock Concert - Saturday February 15\, 2025
DESCRIPTION:Saturday\, February 15\, 2025 @ 5:00 PM
URL:https://auroraschoolofmusic.com/event/rock-concert-1-saturday-february-15-2025/
CATEGORIES:Live Stream
END:VEVENT
BEGIN:VEVENT
DTSTART;TZID=America/New_York:20250221T190000
DTEND;TZID=America/New_York:20250221T200000
DTSTAMP:20260423T062812
CREATED:20250122T024245Z
LAST-MODIFIED:20250131T204149Z
UID:38030-1740164400-1740168000@auroraschoolofmusic.com
SUMMARY:Contemporary Recital - Friday February 21\, 2025
DESCRIPTION:Friday\, February 21\, 2025 @ 7:00 PM
URL:https://auroraschoolofmusic.com/event/contemporary-recital-friday-february-21-2025/
CATEGORIES:Live Stream
END:VEVENT
BEGIN:VEVENT
DTSTART;TZID=America/New_York:20250222T170000
DTEND;TZID=America/New_York:20250222T183000
DTSTAMP:20260423T062812
CREATED:20250122T024245Z
LAST-MODIFIED:20250131T203910Z
UID:38033-1740243600-1740249000@auroraschoolofmusic.com
SUMMARY:Adult Student Recital - Friday February 22\, 2025
DESCRIPTION:Friday February 22\, 2025 @ 5:00 PM
URL:https://auroraschoolofmusic.com/event/adult-student-recital-friday-february-22-2025/
CATEGORIES:Live Stream
END:VEVENT
BEGIN:VEVENT
DTSTART;TZID=America/New_York:20250223T120000
DTEND;TZID=America/New_York:20250223T130000
DTSTAMP:20260423T062812
CREATED:20250122T024245Z
LAST-MODIFIED:20250122T024245Z
UID:38034-1740312000-1740315600@auroraschoolofmusic.com
SUMMARY:Ensemble Showcase - Sunday February 23\, 2025
DESCRIPTION:Sunday\, February 23\, 2025 @ Noon
URL:https://auroraschoolofmusic.com/event/ensemble-showcase-sunday-february-23-2025/
CATEGORIES:Live Stream
END:VEVENT
END:VCALENDAR