BEGIN:VCALENDAR
VERSION:2.0
PRODID:-//Aurora School Of Music - ECPv6.15.20//NONSGML v1.0//EN
CALSCALE:GREGORIAN
METHOD:PUBLISH
X-ORIGINAL-URL:https://auroraschoolofmusic.com
X-WR-CALDESC:Events for Aurora School Of Music
REFRESH-INTERVAL;VALUE=DURATION:PT1H
X-Robots-Tag:noindex
X-PUBLISHED-TTL:PT1H
BEGIN:VTIMEZONE
TZID:America/New_York
BEGIN:DAYLIGHT
TZOFFSETFROM:-0500
TZOFFSETTO:-0400
TZNAME:EDT
DTSTART:20240310T070000
END:DAYLIGHT
BEGIN:STANDARD
TZOFFSETFROM:-0400
TZOFFSETTO:-0500
TZNAME:EST
DTSTART:20241103T060000
END:STANDARD
BEGIN:DAYLIGHT
TZOFFSETFROM:-0500
TZOFFSETTO:-0400
TZNAME:EDT
DTSTART:20250309T070000
END:DAYLIGHT
BEGIN:STANDARD
TZOFFSETFROM:-0400
TZOFFSETTO:-0500
TZNAME:EST
DTSTART:20251102T060000
END:STANDARD
BEGIN:DAYLIGHT
TZOFFSETFROM:-0500
TZOFFSETTO:-0400
TZNAME:EDT
DTSTART:20260308T070000
END:DAYLIGHT
BEGIN:STANDARD
TZOFFSETFROM:-0400
TZOFFSETTO:-0500
TZNAME:EST
DTSTART:20261101T060000
END:STANDARD
END:VTIMEZONE
BEGIN:VEVENT
DTSTART;VALUE=DATE:20250412
DTEND;VALUE=DATE:20250413
DTSTAMP:20260423T031415
CREATED:20250122T024246Z
LAST-MODIFIED:20250122T024246Z
UID:38036-1744416000-1744502399@auroraschoolofmusic.com
SUMMARY:Aurora Young Artist Competition - Woodwinds - Saturday April 12\, 2025
DESCRIPTION:Saturday April 12\, 2025
URL:https://auroraschoolofmusic.com/event/aurora-young-artist-competition-woodwinds-saturday-april-12-2025/
END:VEVENT
BEGIN:VEVENT
DTSTART;VALUE=DATE:20250413
DTEND;VALUE=DATE:20250414
DTSTAMP:20260423T031415
CREATED:20250122T024246Z
LAST-MODIFIED:20250122T024246Z
UID:38037-1744502400-1744588799@auroraschoolofmusic.com
SUMMARY:Aurora Young Artist Competition - Strings - Sunday April 13\, 2025
DESCRIPTION:Sunday April 13\, 2025
URL:https://auroraschoolofmusic.com/event/aurora-young-artist-competition-strings-sunday-april-13-2025/
END:VEVENT
BEGIN:VEVENT
DTSTART;VALUE=DATE:20250419
DTEND;VALUE=DATE:20250420
DTSTAMP:20260423T031415
CREATED:20250122T024247Z
LAST-MODIFIED:20250122T024247Z
UID:38038-1745020800-1745107199@auroraschoolofmusic.com
SUMMARY:Aurora Young Artist Competition Day 1 - Piano - Saturday April 19\, 2025
DESCRIPTION:Saturday April 19\, 2025
URL:https://auroraschoolofmusic.com/event/aurora-young-artist-competition-day-1-piano-saturday-april-19-2025/
END:VEVENT
BEGIN:VEVENT
DTSTART;VALUE=DATE:20250420
DTEND;VALUE=DATE:20250421
DTSTAMP:20260423T031415
CREATED:20250122T024302Z
LAST-MODIFIED:20250122T024302Z
UID:38040-1745107200-1745193599@auroraschoolofmusic.com
SUMMARY:Easter Sunday - School Closed - Sunday April 20\, 2025
DESCRIPTION:Sunday April 20\, 2025. Happy Easter!
URL:https://auroraschoolofmusic.com/event/easter-sunday-school-closed-sunday-april-20-2025/
END:VEVENT
BEGIN:VEVENT
DTSTART;VALUE=DATE:20250426
DTEND;VALUE=DATE:20250427
DTSTAMP:20260423T031415
CREATED:20250122T024247Z
LAST-MODIFIED:20250122T024247Z
UID:38039-1745625600-1745711999@auroraschoolofmusic.com
SUMMARY:Aurora Young Artist Competition Day 2 - Piano - Saturday April 26\, 2025
DESCRIPTION:Saturday April 26\, 2025
URL:https://auroraschoolofmusic.com/event/aurora-young-artist-competition-day-2-piano-saturday-april-26-2025/
END:VEVENT
END:VCALENDAR