BEGIN:VCALENDAR
VERSION:2.0
PRODID:-//Aurora School Of Music - ECPv6.15.20//NONSGML v1.0//EN
CALSCALE:GREGORIAN
METHOD:PUBLISH
X-ORIGINAL-URL:https://auroraschoolofmusic.com
X-WR-CALDESC:Events for Aurora School Of Music
REFRESH-INTERVAL;VALUE=DURATION:PT1H
X-Robots-Tag:noindex
X-PUBLISHED-TTL:PT1H
BEGIN:VTIMEZONE
TZID:America/New_York
BEGIN:DAYLIGHT
TZOFFSETFROM:-0500
TZOFFSETTO:-0400
TZNAME:EDT
DTSTART:20240310T070000
END:DAYLIGHT
BEGIN:STANDARD
TZOFFSETFROM:-0400
TZOFFSETTO:-0500
TZNAME:EST
DTSTART:20241103T060000
END:STANDARD
BEGIN:DAYLIGHT
TZOFFSETFROM:-0500
TZOFFSETTO:-0400
TZNAME:EDT
DTSTART:20250309T070000
END:DAYLIGHT
BEGIN:STANDARD
TZOFFSETFROM:-0400
TZOFFSETTO:-0500
TZNAME:EST
DTSTART:20251102T060000
END:STANDARD
BEGIN:DAYLIGHT
TZOFFSETFROM:-0500
TZOFFSETTO:-0400
TZNAME:EDT
DTSTART:20260308T070000
END:DAYLIGHT
BEGIN:STANDARD
TZOFFSETFROM:-0400
TZOFFSETTO:-0500
TZNAME:EST
DTSTART:20261101T060000
END:STANDARD
END:VTIMEZONE
BEGIN:VEVENT
DTSTART;VALUE=DATE:20250704
DTEND;VALUE=DATE:20250705
DTSTAMP:20260422T231517
CREATED:20250122T024333Z
LAST-MODIFIED:20250122T024333Z
UID:38054-1751587200-1751673599@auroraschoolofmusic.com
SUMMARY:Independence Day - School Closed - Friday July 4-Sunday July 6\, 2025
DESCRIPTION:The school will be closed Friday\, July 4- Sunday\, July 6 for families to be able to celebrate and travel. Lessons will resume Monday\, July 7th.
URL:https://auroraschoolofmusic.com/event/independence-day-school-closed-friday-july-4-sunday-july-6-2025/
END:VEVENT
BEGIN:VEVENT
DTSTART;VALUE=DATE:20250714
DTEND;VALUE=DATE:20250728
DTSTAMP:20260422T231517
CREATED:20250122T024347Z
LAST-MODIFIED:20250221T162735Z
UID:38055-1752451200-1753660799@auroraschoolofmusic.com
SUMMARY:Summer Scenes Program - July 14-27\, 2025
DESCRIPTION:July 14-27\, 2025 \nThe Scenes program aims to ready students for what a showcase may look like at a collegiate level. Many degree programs in Musical Theater or other vocal performance avenues will require participation in a freshman and a senior showcase. In true showcase fashion\, our two week intensive culminates into a wonderful showcase that is open to the public! Performances are Friday\, Saturday\, and Sunday at 7pm. \nSummer Scenes informational packets can be picked up at the front desk! \nhttps://form.jotform.com/250245622675154
URL:https://auroraschoolofmusic.com/event/summer-scenes-program-july-14-27-2025/
END:VEVENT
END:VCALENDAR