BEGIN:VCALENDAR
VERSION:2.0
PRODID:-//Aurora School Of Music - ECPv6.15.20//NONSGML v1.0//EN
CALSCALE:GREGORIAN
METHOD:PUBLISH
X-ORIGINAL-URL:https://auroraschoolofmusic.com
X-WR-CALDESC:Events for Aurora School Of Music
REFRESH-INTERVAL;VALUE=DURATION:PT1H
X-Robots-Tag:noindex
X-PUBLISHED-TTL:PT1H
BEGIN:VTIMEZONE
TZID:UTC
BEGIN:STANDARD
TZOFFSETFROM:+0000
TZOFFSETTO:+0000
TZNAME:UTC
DTSTART:20150101T000000
END:STANDARD
END:VTIMEZONE
BEGIN:VEVENT
DTSTART;TZID=UTC:20161216T193000
DTEND;TZID=UTC:20161216T193000
DTSTAMP:20260425T202208
CREATED:20161216T081024Z
LAST-MODIFIED:20161216T081024Z
UID:6272-1481916600-1481916600@auroraschoolofmusic.com
SUMMARY:An Evening with James
DESCRIPTION:An Evening with James will take place on Friday\, Jan. 27 at 7:30 PM. It will feature James Spisak\, an adult voice student at ASM\, and other ASM students and faculty.   
URL:https://auroraschoolofmusic.com/event/an-evening-with-james/
END:VEVENT
BEGIN:VEVENT
DTSTART;TZID=UTC:20161217T180000
DTEND;TZID=UTC:20161217T190000
DTSTAMP:20260425T202208
CREATED:20161129T071808Z
LAST-MODIFIED:20161129T071808Z
UID:6028-1481997600-1482001200@auroraschoolofmusic.com
SUMMARY:Faculty Showcase
DESCRIPTION:Does your friend always talk about how awesome his or her teacher is? Have you ever wondered what an oboe sounds like? Come explore the instruments taught at the Aurora School of Music! Our faculty is excited to share their talents with you. \nDon’t miss our very first ASM Faculty Showcase! \nMake this wonderful performance a part of your joyful holiday season.   
URL:https://auroraschoolofmusic.com/event/faculty-showcase/
CATEGORIES:Live Stream
ATTACH;FMTTYPE=:
END:VEVENT
BEGIN:VEVENT
DTSTART;TZID=UTC:20161218T170000
DTEND;TZID=UTC:20161218T170000
DTSTAMP:20260425T202208
CREATED:20161216T080206Z
LAST-MODIFIED:20161216T080206Z
UID:6270-1482080400-1482080400@auroraschoolofmusic.com
SUMMARY:Glorioso Piano Trio Concert
DESCRIPTION:The Glorioso Piano Trio will be performing a concert on Sunday\, Dec. 18 at 5:00 PM. This concert is free and open to the public. Ellie is a substitute cello teacher here at ASM.   
URL:https://auroraschoolofmusic.com/event/glorioso-piano-trio-concert/
END:VEVENT
END:VCALENDAR